Package: SCFA Version: 1.21.0 Command: /Library/Frameworks/R.framework/Resources/bin/R CMD build --keep-empty-dirs --no-resave-data SCFA StartedAt: 2025-11-13 17:36:48 -0500 (Thu, 13 Nov 2025) EndedAt: 2025-11-13 17:37:58 -0500 (Thu, 13 Nov 2025) EllapsedTime: 69.8 seconds RetCode: 0 Status: OK PackageFile: SCFA_1.21.0.tar.gz PackageFileSize: 1.24 MiB