Package: SCFA Version: 1.21.0 Maintainer: Duc Tran MaintainerEmail: duct at nevada.unr.edu git_url: https://git.bioconductor.org/packages/SCFA git_branch: devel git_last_commit: 4eb486e git_last_commit_date: 2025-10-29 11:03:49 -0500 (Wed, 29 Oct 2025)