Package: SCBN Version: 1.29.0 Command: rm -rf SCBN.buildbin-libdir && mkdir SCBN.buildbin-libdir && /Users/biocbuild/BBS/utils/build-universal.sh SCBN_1.29.0.tar.gz /Library/Frameworks/R.framework/Resources/bin/R SCBN.buildbin-libdir StartedAt: 2025-11-13 23:55:00 -0500 (Thu, 13 Nov 2025) EndedAt: 2025-11-13 23:55:02 -0500 (Thu, 13 Nov 2025) EllapsedTime: 2.0 seconds RetCode: 0 Status: OK PackageFile: SCBN_1.29.0.tgz PackageFileSize: 651.6 KiB