Package: SCBN Version: 1.29.0 Maintainer: Yan Zhou MaintainerEmail: 2160090406 at email.szu.edu.cn git_url: https://git.bioconductor.org/packages/SCBN git_branch: devel git_last_commit: 5b54dae git_last_commit_date: 2025-10-29 10:46:50 -0500 (Wed, 29 Oct 2025)