Package: SCArray Version: 1.19.0 Command: /home/biocbuild/bbs-3.23-bioc/R/bin/R CMD INSTALL SCArray StartedAt: 2025-11-11 15:56:36 -0500 (Tue, 11 Nov 2025) EndedAt: 2025-11-11 15:57:16 -0500 (Tue, 11 Nov 2025) EllapsedTime: 39.7 seconds RetCode: 0 Status: OK