Package: SCArray Version: 1.19.0 Command: /Library/Frameworks/R.framework/Resources/bin/R CMD build --keep-empty-dirs --no-resave-data SCArray StartedAt: 2025-11-13 17:35:03 -0500 (Thu, 13 Nov 2025) EndedAt: 2025-11-13 17:35:36 -0500 (Thu, 13 Nov 2025) EllapsedTime: 33.4 seconds RetCode: 0 Status: OK PackageFile: SCArray_1.19.0.tar.gz PackageFileSize: 1.307 MiB