Package: SCArray.sat Version: 1.11.0 Command: /home/biocbuild/bbs-3.23-bioc/R/bin/R CMD INSTALL SCArray.sat StartedAt: 2025-11-11 15:57:44 -0500 (Tue, 11 Nov 2025) EndedAt: 2025-11-11 15:58:25 -0500 (Tue, 11 Nov 2025) EllapsedTime: 40.7 seconds RetCode: 0 Status: OK