Package: SCArray.sat Version: 1.11.0 Command: /home/biocbuild/bbs-3.23-bioc/R/bin/R CMD build --keep-empty-dirs --no-resave-data SCArray.sat StartedAt: 2025-11-11 19:53:45 -0500 (Tue, 11 Nov 2025) EndedAt: 2025-11-11 19:55:01 -0500 (Tue, 11 Nov 2025) EllapsedTime: 76.1 seconds RetCode: 1 Status: ERROR PackageFile: None PackageFileSize: NA