Package: SCArray.sat Version: 1.11.0 Command: /Library/Frameworks/R.framework/Resources/bin/R CMD INSTALL SCArray.sat StartedAt: 2025-11-12 15:44:05 -0500 (Wed, 12 Nov 2025) EndedAt: 2025-11-12 15:44:06 -0500 (Wed, 12 Nov 2025) EllapsedTime: 1.1 seconds RetCode: 1 Status: ERROR