############################################################################## ############################################################################## ### ### Running command: ### ### /Library/Frameworks/R.framework/Resources/bin/R CMD build --keep-empty-dirs --no-resave-data SCArray.sat ### ############################################################################## ############################################################################## * checking for file ‘SCArray.sat/DESCRIPTION’ ... OK * preparing ‘SCArray.sat’: * checking DESCRIPTION meta-information ... OK * installing the package (it is needed to build vignettes) ----------------------------------- ERROR: dependencies ‘SCArray’, ‘gdsfmt’ are not available for package ‘SCArray.sat’ Perhaps try a variation of: install.packages(c('SCArray', 'gdsfmt')) * removing ‘/private/var/folders/r0/l4fjk6cj5xj0j3brt4bplpl40000gt/T/RtmpeUzrLa/Rinst51cd362fd44c/SCArray.sat’ ----------------------------------- ERROR: package installation failed