Package: SCArray.sat Version: 1.11.0 Maintainer: Xiuwen Zheng MaintainerEmail: xiuwen.zheng at abbvie.com git_url: https://git.bioconductor.org/packages/SCArray.sat git_branch: devel git_last_commit: 10b697d git_last_commit_date: 2025-10-29 11:22:05 -0500 (Wed, 29 Oct 2025)