Package: SCANVIS Version: 1.25.0 Command: /home/biocbuild/bbs-3.23-bioc/R/bin/R CMD INSTALL SCANVIS StartedAt: 2025-11-14 15:28:14 -0500 (Fri, 14 Nov 2025) EndedAt: 2025-11-14 15:28:45 -0500 (Fri, 14 Nov 2025) EllapsedTime: 31.4 seconds RetCode: 0 Status: OK