Package: SCANVIS Version: 1.25.0 Command: /home/biocbuild/bbs-3.23-bioc/R/bin/R CMD build --keep-empty-dirs --no-resave-data SCANVIS StartedAt: 2025-11-13 19:48:20 -0500 (Thu, 13 Nov 2025) EndedAt: 2025-11-13 19:49:18 -0500 (Thu, 13 Nov 2025) EllapsedTime: 58.1 seconds RetCode: 0 Status: OK PackageFile: SCANVIS_1.25.0.tar.gz PackageFileSize: 470.9 KiB