Package: SCANVIS Version: 1.25.0 Command: /Library/Frameworks/R.framework/Resources/bin/R CMD build --keep-empty-dirs --no-resave-data SCANVIS StartedAt: 2025-11-13 17:34:59 -0500 (Thu, 13 Nov 2025) EndedAt: 2025-11-13 17:35:24 -0500 (Thu, 13 Nov 2025) EllapsedTime: 25.3 seconds RetCode: 0 Status: OK PackageFile: SCANVIS_1.25.0.tar.gz PackageFileSize: 470.7 KiB