Package: SCANVIS Version: 1.25.0 Command: rm -rf SCANVIS.buildbin-libdir && mkdir SCANVIS.buildbin-libdir && /Users/biocbuild/BBS/utils/build-universal.sh SCANVIS_1.25.0.tar.gz /Library/Frameworks/R.framework/Resources/bin/R SCANVIS.buildbin-libdir StartedAt: 2025-11-14 23:50:09 -0500 (Fri, 14 Nov 2025) EndedAt: 2025-11-14 23:50:24 -0500 (Fri, 14 Nov 2025) EllapsedTime: 15.3 seconds RetCode: 0 Status: OK PackageFile: SCANVIS_1.25.0.tgz PackageFileSize: 430.5 KiB