Package: SCANVIS Version: 1.25.0 Maintainer: Phaedra Agius MaintainerEmail: pagius at nygenome.org git_url: https://git.bioconductor.org/packages/SCANVIS git_branch: devel git_last_commit: fa77b41 git_last_commit_date: 2025-10-29 10:53:09 -0500 (Wed, 29 Oct 2025)