Package: SCAN.UPC Version: 2.53.0 Command: /home/biocbuild/bbs-3.23-bioc/R/bin/R CMD INSTALL SCAN.UPC StartedAt: 2025-11-13 15:33:57 -0500 (Thu, 13 Nov 2025) EndedAt: 2025-11-13 15:34:31 -0500 (Thu, 13 Nov 2025) EllapsedTime: 34.1 seconds RetCode: 0 Status: OK