Package: SCAN.UPC Version: 2.53.0 Command: /home/biocbuild/bbs-3.23-bioc/R/bin/R CMD build --keep-empty-dirs --no-resave-data SCAN.UPC StartedAt: 2025-11-13 19:47:44 -0500 (Thu, 13 Nov 2025) EndedAt: 2025-11-13 19:48:23 -0500 (Thu, 13 Nov 2025) EllapsedTime: 39.0 seconds RetCode: 0 Status: OK PackageFile: SCAN.UPC_2.53.0.tar.gz PackageFileSize: 689.6 KiB