Package: SCAN.UPC Version: 2.53.0 Command: /Library/Frameworks/R.framework/Resources/bin/R CMD INSTALL SCAN.UPC StartedAt: 2025-11-13 15:19:55 -0500 (Thu, 13 Nov 2025) EndedAt: 2025-11-13 15:20:09 -0500 (Thu, 13 Nov 2025) EllapsedTime: 14.1 seconds RetCode: 0 Status: OK