Package: SCAN.UPC Version: 2.53.0 Command: /Library/Frameworks/R.framework/Resources/bin/R CMD build --keep-empty-dirs --no-resave-data SCAN.UPC StartedAt: 2025-11-13 17:34:39 -0500 (Thu, 13 Nov 2025) EndedAt: 2025-11-13 17:34:58 -0500 (Thu, 13 Nov 2025) EllapsedTime: 19.2 seconds RetCode: 0 Status: OK PackageFile: SCAN.UPC_2.53.0.tar.gz PackageFileSize: 689.6 KiB