Package: SCAN.UPC Version: 2.53.0 Maintainer: Stephen R. Piccolo MaintainerEmail: stephen_piccolo at byu.edu git_url: https://git.bioconductor.org/packages/SCAN.UPC git_branch: devel git_last_commit: 89643cf git_last_commit_date: 2025-10-29 10:12:17 -0500 (Wed, 29 Oct 2025)