Package: SC3 Version: 1.39.0 Command: /home/biocbuild/bbs-3.23-bioc/R/bin/R CMD INSTALL SC3 StartedAt: 2025-11-13 15:19:08 -0500 (Thu, 13 Nov 2025) EndedAt: 2025-11-13 15:19:51 -0500 (Thu, 13 Nov 2025) EllapsedTime: 42.6 seconds RetCode: 0 Status: OK