Package: SC3 Version: 1.39.0 Command: /Library/Frameworks/R.framework/Resources/bin/R CMD INSTALL SC3 StartedAt: 2025-11-12 15:25:13 -0500 (Wed, 12 Nov 2025) EndedAt: 2025-11-12 15:25:29 -0500 (Wed, 12 Nov 2025) EllapsedTime: 15.7 seconds RetCode: 0 Status: OK