Package: SC3 Version: 1.39.0 Command: /Library/Frameworks/R.framework/Resources/bin/R CMD build --keep-empty-dirs --no-resave-data SC3 StartedAt: 2025-11-12 17:08:13 -0500 (Wed, 12 Nov 2025) EndedAt: 2025-11-12 17:11:16 -0500 (Wed, 12 Nov 2025) EllapsedTime: 183.3 seconds RetCode: 0 Status: OK PackageFile: SC3_1.39.0.tar.gz PackageFileSize: 3.373 MiB