Package: SC3 Version: 1.39.0 Command: rm -rf SC3.buildbin-libdir && mkdir SC3.buildbin-libdir && /Users/biocbuild/BBS/utils/build-universal.sh SC3_1.39.0.tar.gz /Library/Frameworks/R.framework/Resources/bin/R SC3.buildbin-libdir StartedAt: 2025-11-12 21:09:49 -0500 (Wed, 12 Nov 2025) EndedAt: 2025-11-12 21:10:08 -0500 (Wed, 12 Nov 2025) EllapsedTime: 19.4 seconds RetCode: 0 Status: OK PackageFile: SC3_1.39.0.tgz PackageFileSize: 4.608 MiB