Package: SBMLR Version: 2.7.0 Command: /Library/Frameworks/R.framework/Resources/bin/R CMD INSTALL SBMLR StartedAt: 2025-11-14 15:02:12 -0500 (Fri, 14 Nov 2025) EndedAt: 2025-11-14 15:02:16 -0500 (Fri, 14 Nov 2025) EllapsedTime: 3.8 seconds RetCode: 0 Status: OK