Package: SBMLR Version: 2.7.0 Command: /Library/Frameworks/R.framework/Resources/bin/R CMD build --keep-empty-dirs --no-resave-data SBMLR StartedAt: 2025-11-14 17:31:35 -0500 (Fri, 14 Nov 2025) EndedAt: 2025-11-14 17:31:41 -0500 (Fri, 14 Nov 2025) EllapsedTime: 6.1 seconds RetCode: 0 Status: OK PackageFile: SBMLR_2.7.0.tar.gz PackageFileSize: 274.6 KiB