Package: SARC Version: 1.7.1 Command: /home/biocbuild/bbs-3.23-bioc/R/bin/R CMD INSTALL SARC StartedAt: 2025-10-22 21:46:29 -0000 (Wed, 22 Oct 2025) EndedAt: 2025-10-22 21:47:09 -0000 (Wed, 22 Oct 2025) EllapsedTime: 39.7 seconds RetCode: 0 Status: OK