Package: SARC Version: 1.7.1 Command: /home/biocbuild/bbs-3.23-bioc/R/bin/R CMD build --keep-empty-dirs --no-resave-data SARC StartedAt: 2025-10-23 00:21:09 -0000 (Thu, 23 Oct 2025) EndedAt: 2025-10-23 00:22:02 -0000 (Thu, 23 Oct 2025) EllapsedTime: 53.1 seconds RetCode: 1 Status: ERROR PackageFile: None PackageFileSize: NA