Package: S4Vectors Version: 0.49.0 Command: /Library/Frameworks/R.framework/Resources/bin/R CMD INSTALL S4Vectors StartedAt: 2025-11-14 15:07:07 -0500 (Fri, 14 Nov 2025) EndedAt: 2025-11-14 15:07:17 -0500 (Fri, 14 Nov 2025) EllapsedTime: 9.2 seconds RetCode: 0 Status: OK