Package: S4Vectors Version: 0.49.0 Command: /Library/Frameworks/R.framework/Resources/bin/R CMD build --keep-empty-dirs --no-resave-data S4Vectors StartedAt: 2025-11-14 17:31:10 -0500 (Fri, 14 Nov 2025) EndedAt: 2025-11-14 17:31:36 -0500 (Fri, 14 Nov 2025) EllapsedTime: 25.3 seconds RetCode: 0 Status: OK PackageFile: S4Vectors_0.49.0.tar.gz PackageFileSize: 799.1 KiB