Package: S4Vectors Version: 0.49.0 Command: rm -rf S4Vectors.buildbin-libdir && mkdir S4Vectors.buildbin-libdir && /Users/biocbuild/BBS/utils/build-universal.sh S4Vectors_0.49.0.tar.gz /Library/Frameworks/R.framework/Resources/bin/R S4Vectors.buildbin-libdir StartedAt: 2025-11-14 23:49:41 -0500 (Fri, 14 Nov 2025) EndedAt: 2025-11-14 23:49:54 -0500 (Fri, 14 Nov 2025) EllapsedTime: 12.3 seconds RetCode: 0 Status: OK PackageFile: S4Vectors_0.49.0.tgz PackageFileSize: 2.21 MiB