Package: S4Arrays Version: 1.11.0 Command: /Library/Frameworks/R.framework/Resources/bin/R CMD INSTALL S4Arrays StartedAt: 2025-11-13 15:07:38 -0500 (Thu, 13 Nov 2025) EndedAt: 2025-11-13 15:07:44 -0500 (Thu, 13 Nov 2025) EllapsedTime: 6.1 seconds RetCode: 0 Status: OK