Package: S4Arrays Version: 1.11.0 Command: /Library/Frameworks/R.framework/Resources/bin/R CMD build --keep-empty-dirs --no-resave-data S4Arrays StartedAt: 2025-11-13 17:34:03 -0500 (Thu, 13 Nov 2025) EndedAt: 2025-11-13 17:34:12 -0500 (Thu, 13 Nov 2025) EllapsedTime: 9.1 seconds RetCode: 0 Status: OK PackageFile: S4Arrays_1.11.0.tar.gz PackageFileSize: 288.1 KiB