Package: S4Arrays Version: 1.11.0 Command: rm -rf S4Arrays.buildbin-libdir && mkdir S4Arrays.buildbin-libdir && /Users/biocbuild/BBS/utils/build-universal.sh S4Arrays_1.11.0.tar.gz /Library/Frameworks/R.framework/Resources/bin/R S4Arrays.buildbin-libdir StartedAt: 2025-11-13 23:54:31 -0500 (Thu, 13 Nov 2025) EndedAt: 2025-11-13 23:54:40 -0500 (Thu, 13 Nov 2025) EllapsedTime: 9.2 seconds RetCode: 0 Status: OK PackageFile: S4Arrays_1.11.0.tgz PackageFileSize: 1.161 MiB