Package: Rsamtools Version: 2.27.0 Command: rm -rf Rsamtools.buildbin-libdir && mkdir Rsamtools.buildbin-libdir && /Users/biocbuild/BBS/utils/build-universal.sh Rsamtools_2.27.0.tar.gz /Library/Frameworks/R.framework/Resources/bin/R Rsamtools.buildbin-libdir StartedAt: 2025-11-14 23:49:16 -0500 (Fri, 14 Nov 2025) EndedAt: 2025-11-14 23:49:37 -0500 (Fri, 14 Nov 2025) EllapsedTime: 21.4 seconds RetCode: 0 Status: OK PackageFile: Rsamtools_2.27.0.tgz PackageFileSize: 3.087 MiB