Package: Rqc Version: 1.45.0 Command: /home/biocbuild/bbs-3.23-bioc/R/bin/R CMD INSTALL Rqc StartedAt: 2025-11-14 15:58:34 -0500 (Fri, 14 Nov 2025) EndedAt: 2025-11-14 15:59:28 -0500 (Fri, 14 Nov 2025) EllapsedTime: 54.3 seconds RetCode: 0 Status: OK