Package: Rqc Version: 1.45.0 Command: /home/biocbuild/bbs-3.23-bioc/R/bin/R CMD build --keep-empty-dirs --no-resave-data Rqc StartedAt: 2025-11-14 19:43:14 -0500 (Fri, 14 Nov 2025) EndedAt: 2025-11-14 19:44:40 -0500 (Fri, 14 Nov 2025) EllapsedTime: 86.1 seconds RetCode: 0 Status: OK PackageFile: Rqc_1.45.0.tar.gz PackageFileSize: 1.332 MiB