Package: Rqc Version: 1.45.0 Command: /Library/Frameworks/R.framework/Resources/bin/R CMD INSTALL Rqc StartedAt: 2025-11-14 15:28:54 -0500 (Fri, 14 Nov 2025) EndedAt: 2025-11-14 15:29:16 -0500 (Fri, 14 Nov 2025) EllapsedTime: 21.7 seconds RetCode: 0 Status: OK