Package: Rqc Version: 1.45.0 Command: /Library/Frameworks/R.framework/Resources/bin/R CMD build --keep-empty-dirs --no-resave-data Rqc StartedAt: 2025-11-14 17:29:41 -0500 (Fri, 14 Nov 2025) EndedAt: 2025-11-14 17:30:20 -0500 (Fri, 14 Nov 2025) EllapsedTime: 38.4 seconds RetCode: 0 Status: OK PackageFile: Rqc_1.45.0.tar.gz PackageFileSize: 1.308 MiB