Package: Rqc Version: 1.45.0 Command: rm -rf Rqc.buildbin-libdir && mkdir Rqc.buildbin-libdir && /Users/biocbuild/BBS/utils/build-universal.sh Rqc_1.45.0.tar.gz /Library/Frameworks/R.framework/Resources/bin/R Rqc.buildbin-libdir StartedAt: 2025-11-14 23:49:10 -0500 (Fri, 14 Nov 2025) EndedAt: 2025-11-14 23:49:36 -0500 (Fri, 14 Nov 2025) EllapsedTime: 26.5 seconds RetCode: 0 Status: OK PackageFile: Rqc_1.45.0.tgz PackageFileSize: 1.44 MiB