Package: Rqc Version: 1.45.0 Maintainer: Welliton Souza MaintainerEmail: well309 at gmail.com git_url: https://git.bioconductor.org/packages/Rqc git_branch: devel git_last_commit: 81cf3fd git_last_commit_date: 2025-10-29 10:22:46 -0500 (Wed, 29 Oct 2025)