Package: RnaSeqSampleSize Version: 2.21.0 Command: /home/biocbuild/bbs-3.23-bioc/R/bin/R CMD build --keep-empty-dirs --no-resave-data RnaSeqSampleSize StartedAt: 2025-11-11 19:46:23 -0500 (Tue, 11 Nov 2025) EndedAt: 2025-11-11 19:48:02 -0500 (Tue, 11 Nov 2025) EllapsedTime: 99.1 seconds RetCode: 0 Status: OK PackageFile: RnaSeqSampleSize_2.21.0.tar.gz PackageFileSize: 235.6 KiB