Package: RnaSeqSampleSize Version: 2.21.0 Command: /Library/Frameworks/R.framework/Resources/bin/R CMD INSTALL RnaSeqSampleSize StartedAt: 2025-11-13 15:33:15 -0500 (Thu, 13 Nov 2025) EndedAt: 2025-11-13 15:33:16 -0500 (Thu, 13 Nov 2025) EllapsedTime: 1.0 seconds RetCode: 1 Status: ERROR