Package: RnaSeqSampleSize Version: 2.21.0 Command: /Library/Frameworks/R.framework/Resources/bin/R CMD build --keep-empty-dirs --no-resave-data RnaSeqSampleSize StartedAt: 2025-11-13 17:31:45 -0500 (Thu, 13 Nov 2025) EndedAt: 2025-11-13 17:31:47 -0500 (Thu, 13 Nov 2025) EllapsedTime: 2.0 seconds RetCode: 1 Status: ERROR PackageFile: None PackageFileSize: NA