Package: RnaSeqSampleSize Version: 2.21.0 Maintainer: Shilin Zhao Developer MaintainerEmail: zhaoshilin at gmail.com git_url: https://git.bioconductor.org/packages/RnaSeqSampleSize git_branch: devel git_last_commit: d615113 git_last_commit_date: 2025-10-29 11:03:19 -0500 (Wed, 29 Oct 2025)