Package: RnBeads Version: 2.29.0 Command: /Library/Frameworks/R.framework/Resources/bin/R CMD INSTALL RnBeads StartedAt: 2025-11-23 15:31:52 -0500 (Sun, 23 Nov 2025) EndedAt: 2025-11-23 15:32:24 -0500 (Sun, 23 Nov 2025) EllapsedTime: 32.3 seconds RetCode: 0 Status: OK