Package: RnBeads Version: 2.29.0 Command: /Library/Frameworks/R.framework/Resources/bin/R CMD build --keep-empty-dirs --no-resave-data RnBeads StartedAt: 2025-11-23 17:30:37 -0500 (Sun, 23 Nov 2025) EndedAt: 2025-11-23 17:31:48 -0500 (Sun, 23 Nov 2025) EllapsedTime: 70.8 seconds RetCode: 0 Status: OK PackageFile: RnBeads_2.29.0.tar.gz PackageFileSize: 7.566 MiB