Package: Rmmquant Version: 1.29.0 Command: /home/biocbuild/bbs-3.23-bioc/R/bin/R CMD build --keep-empty-dirs --no-resave-data Rmmquant StartedAt: 2025-11-11 19:45:03 -0500 (Tue, 11 Nov 2025) EndedAt: 2025-11-11 19:46:23 -0500 (Tue, 11 Nov 2025) EllapsedTime: 80.2 seconds RetCode: 0 Status: OK PackageFile: Rmmquant_1.29.0.tar.gz PackageFileSize: 44.85 KiB