Package: Rmmquant Version: 1.29.0 Command: /Library/Frameworks/R.framework/Resources/bin/R CMD build --keep-empty-dirs --no-resave-data Rmmquant StartedAt: 2025-11-13 17:31:08 -0500 (Thu, 13 Nov 2025) EndedAt: 2025-11-13 17:31:42 -0500 (Thu, 13 Nov 2025) EllapsedTime: 33.4 seconds RetCode: 0 Status: OK PackageFile: Rmmquant_1.29.0.tar.gz PackageFileSize: 45.08 KiB